BEGIN:VCALENDAR
VERSION:2.0
PRODID:-//Master Lu&#039;s Health Center - ECPv6.15.20//NONSGML v1.0//EN
CALSCALE:GREGORIAN
METHOD:PUBLISH
X-WR-CALNAME:Master Lu&#039;s Health Center
X-ORIGINAL-URL:https://www.luhealthcenter.com
X-WR-CALDESC:Events for Master Lu&#039;s Health Center
REFRESH-INTERVAL;VALUE=DURATION:PT1H
X-Robots-Tag:noindex
X-PUBLISHED-TTL:PT1H
BEGIN:VTIMEZONE
TZID:America/Denver
BEGIN:DAYLIGHT
TZOFFSETFROM:-0700
TZOFFSETTO:-0600
TZNAME:MDT
DTSTART:20250309T090000
END:DAYLIGHT
BEGIN:STANDARD
TZOFFSETFROM:-0600
TZOFFSETTO:-0700
TZNAME:MST
DTSTART:20251102T080000
END:STANDARD
BEGIN:DAYLIGHT
TZOFFSETFROM:-0700
TZOFFSETTO:-0600
TZNAME:MDT
DTSTART:20260308T090000
END:DAYLIGHT
BEGIN:STANDARD
TZOFFSETFROM:-0600
TZOFFSETTO:-0700
TZNAME:MST
DTSTART:20261101T080000
END:STANDARD
BEGIN:DAYLIGHT
TZOFFSETFROM:-0700
TZOFFSETTO:-0600
TZNAME:MDT
DTSTART:20270314T090000
END:DAYLIGHT
BEGIN:STANDARD
TZOFFSETFROM:-0600
TZOFFSETTO:-0700
TZNAME:MST
DTSTART:20271107T080000
END:STANDARD
END:VTIMEZONE
BEGIN:VEVENT
DTSTART;TZID=America/Denver:20260425T091500
DTEND;TZID=America/Denver:20260425T110000
DTSTAMP:20260422T174820
CREATED:20260312T180050Z
LAST-MODIFIED:20260312T180050Z
UID:10000006-1777108500-1777114800@www.luhealthcenter.com
SUMMARY:World Tai Chi and Qi Gong Day 2026
DESCRIPTION:
URL:https://www.luhealthcenter.com/event/world-tai-chi-and-qi-gong-day-2026/
LOCATION:Murray City Park\, 160 East 5300 South\, Murray\, Utah
ATTACH;FMTTYPE=image/jpeg:https://www.luhealthcenter.com/wp-content/uploads/2026/03/WorldTaiChiDay2026.jpg
END:VEVENT
END:VCALENDAR